BEGIN:VCALENDAR
VERSION:2.0
PRODID:-//Campus BHAK BHAS Stegersbach - ECPv6.15.20//NONSGML v1.0//EN
CALSCALE:GREGORIAN
METHOD:PUBLISH
X-WR-CALNAME:Campus BHAK BHAS Stegersbach
X-ORIGINAL-URL:https://www.hak-stegersbach.at
X-WR-CALDESC:Veranstaltungen für Campus BHAK BHAS Stegersbach
REFRESH-INTERVAL;VALUE=DURATION:PT1H
X-Robots-Tag:noindex
X-PUBLISHED-TTL:PT1H
BEGIN:VTIMEZONE
TZID:Europe/Vienna
BEGIN:DAYLIGHT
TZOFFSETFROM:+0100
TZOFFSETTO:+0200
TZNAME:CEST
DTSTART:20250330T010000
END:DAYLIGHT
BEGIN:STANDARD
TZOFFSETFROM:+0200
TZOFFSETTO:+0100
TZNAME:CET
DTSTART:20251026T010000
END:STANDARD
BEGIN:DAYLIGHT
TZOFFSETFROM:+0100
TZOFFSETTO:+0200
TZNAME:CEST
DTSTART:20260329T010000
END:DAYLIGHT
BEGIN:STANDARD
TZOFFSETFROM:+0200
TZOFFSETTO:+0100
TZNAME:CET
DTSTART:20261025T010000
END:STANDARD
BEGIN:DAYLIGHT
TZOFFSETFROM:+0100
TZOFFSETTO:+0200
TZNAME:CEST
DTSTART:20270328T010000
END:DAYLIGHT
BEGIN:STANDARD
TZOFFSETFROM:+0200
TZOFFSETTO:+0100
TZNAME:CET
DTSTART:20271031T010000
END:STANDARD
END:VTIMEZONE
BEGIN:VEVENT
DTSTART;TZID=Europe/Vienna:20260128T074500
DTEND;TZID=Europe/Vienna:20260128T131000
DTSTAMP:20260422T134651
CREATED:20251023T100255Z
LAST-MODIFIED:20251023T100502Z
UID:21576-1769586300-1769605800@www.hak-stegersbach.at
SUMMARY:Schnuppertag
DESCRIPTION:
URL:https://www.hak-stegersbach.at/event/schnuppertage-5/
CATEGORIES:Campus
END:VEVENT
END:VCALENDAR